BEGIN:VCALENDAR
VERSION:2.0
PRODID:-//DE Soil Health Partnership - ECPv6.15.20//NONSGML v1.0//EN
CALSCALE:GREGORIAN
METHOD:PUBLISH
X-ORIGINAL-URL:https://delawaredigshealthysoils.com
X-WR-CALDESC:Events for DE Soil Health Partnership
REFRESH-INTERVAL;VALUE=DURATION:PT1H
X-Robots-Tag:noindex
X-PUBLISHED-TTL:PT1H
BEGIN:VTIMEZONE
TZID:UTC
BEGIN:STANDARD
TZOFFSETFROM:+0000
TZOFFSETTO:+0000
TZNAME:UTC
DTSTART:20210101T000000
END:STANDARD
END:VTIMEZONE
BEGIN:VEVENT
DTSTART;TZID=UTC:20230208T090000
DTEND;TZID=UTC:20230208T120000
DTSTAMP:20260423T162847
CREATED:20221214T171141Z
LAST-MODIFIED:20230110T135151Z
UID:773-1675846800-1675857600@delawaredigshealthysoils.com
SUMMARY:Soil Health Series- SCD Workshop- Soil Health & Conservation Drainage and Extension Updates
DESCRIPTION:Featuring: Tim Rosen\, ShoreRivers\, David Owens and Jarrod Miller\, University of Delaware. \n\n\n\n9:00 am\nWelcome and Introductions \nTBD \n \n\n\n9:10 am\nConservation Drainage & Soil Health Initiatives on Delmarva \nTim Rosen\, ShoreRivers \n \n\n\n9:40 am\nExtension Soil Health Research Updates \nDavid Owens\, UD IPM Extension Specialist \nJarrod Miller\, UD Agronomy Specialist \n \n\n\n11:00 am\nNRCS Soil Health Program Updates \nJayme Arthurs \n \n\n\n11:15 am\nExpert Panel Discussion- Weighing the Tradeoffs in Soil Health \nJarrod Miller\, David Owens\, Tim Rosen\, Phil King… anyone else? \n \n\n\n12:00 pm\nLunch (provided) \n 
URL:https://delawaredigshealthysoils.com/event/soil-health-series-scd-workshop-soil-health-conservation-drainage-and-extension-updates/
LOCATION:Bridgeville Fire Hall\, 311 Market St\, Bridgeville\, DE\, 19933\, United States
ATTACH;FMTTYPE=image/jpeg:https://delawaredigshealthysoils.com/wp-content/uploads/2022/12/322679924_3481199962108815_6559589482560788683_n.jpg
END:VEVENT
BEGIN:VEVENT
DTSTART;TZID=UTC:20230203T180000
DTEND;TZID=UTC:20230203T220000
DTSTAMP:20260423T162847
CREATED:20221214T170652Z
LAST-MODIFIED:20230110T141611Z
UID:770-1675447200-1675461600@delawaredigshealthysoils.com
SUMMARY:KCD/NCCD Soil Health Evening Workshop at Clayton Fire Hall
DESCRIPTION:Kent and New Castle County farmers are invited to join us for an evening of learning and discussion on the use of Cover Crops in Delaware! Registration is free! Click on the link below: \nClick here to register on Eventbrite \nThe Beef on Soil Health: \nWorkshop and Dinner \n**Participants will receive 1.0 Continuing Education Credit\n \nFriday\, February 3\, 2023 \n6:00 p.m. \n  \nClayton Fire Company\, 300 East Street\, Clayton\, Delaware \nAgenda \n6:00 p.m.       Doors Open (Sign in and tour displays) \n6:30 p.m.       Buffet Dinner \n                        Beef and dumplings; chicken cordon bleu; veggie medley; mashed potatoes; coleslaw; and assorted desserts \n6:50 p.m.       Welcome and Opening Remarks \n7:00 p.m.       Keynote Speaker: \nDr. Jarrod O. Miller\, Assistant Professor and Extension Specialist in Agronomy\, Department of Plant and Soil Sciences\, University of Delaware Cooperative Extension \n\nPresentation on recent research findings regarding cover crop biomass and termination considerations\n\n8:00 p.m.       Farmers Panel: \nExperiences with Cover Crops for Soil Health and Agronomic Management \nModerator:  Mike Brown\, Kent Conservation District Supervisor \nPanelists: \n\nBryan Melvin\, Farmer\, Kent County\, DE\nMatt Webber\, Farmer\, Kent County\, DE\nStewart Ramsey\, Farmer\, New Castle County\, DE\nRobert Willoughby\, Farmer\, New Castle County\, DE\n\n9:00 -10:00 p.m.      Social Hour – cash bar available \n  \nSponsors \nKent Conservation District \nNew Castle Conservation District \n**Participants will receive 1.0 Continuing Education Credit
URL:https://delawaredigshealthysoils.com/event/kcd-nccd-soil-health-evening-workshop-at-clayton-fire-hall/
LOCATION:Clayton Fire Hall\, 300 East St\, Clayton\, DE\, 19938\, United States
ATTACH;FMTTYPE=image/png:https://delawaredigshealthysoils.com/wp-content/uploads/2022/12/image-4.png
END:VEVENT
BEGIN:VEVENT
DTSTART;TZID=UTC:20230125T080000
DTEND;TZID=UTC:20230125T093000
DTSTAMP:20260423T162847
CREATED:20230110T135658Z
LAST-MODIFIED:20230110T135658Z
UID:787-1674633600-1674639000@delawaredigshealthysoils.com
SUMMARY:Caffeine & Cover Crops
DESCRIPTION:An in-person caffeine and cover crops event will be held on Wednesday\, Jan. 25\, 2023\, from 8 – 9:30 a.m.\, at the Vanderwende-Evans Conservation Center in Georgetown. This event is free and preregistration is encouraged; coffee and light fare will be served. \nThis event is presented by the Delaware Soil Health Partnership\, Sussex Conservation District and the USDA Natural Resources Conservation Service. \nUse the link below to register or call Siobhan Kelley\, (302) 856-2105\, x 122.
URL:https://delawaredigshealthysoils.com/event/caffeine-cover-crops/
LOCATION:Sussex Conservation District\, 23818 Shortly Road\, Georgetown\, DE\, 19947\, United States
ATTACH;FMTTYPE=image/jpeg:https://delawaredigshealthysoils.com/wp-content/uploads/2023/01/319328131_524512476386097_5983619989444526487_n.jpg
END:VEVENT
BEGIN:VEVENT
DTSTART;TZID=UTC:20230118T090000
DTEND;TZID=UTC:20230118T120000
DTSTAMP:20260423T162847
CREATED:20221214T170549Z
LAST-MODIFIED:20230110T134821Z
UID:767-1674032400-1674043200@delawaredigshealthysoils.com
SUMMARY:Soil Health Series- SCD Workshop with Jeremiah Durbin
DESCRIPTION:The Delaware Soil Health Partnership can help you resolve to improve your soil health in 2023. \nJeremiah Durbin\, independent soil consultant and owner of Sustainable Legacy Consulting\, will present\, “Scale Up Your Soil Health- Manage Risk for Increased Profitability.” Following the presentation\, a farmer panel will discuss\, “Troubleshooting and Identifying the Next Steps.” \nOn-site registration will be available and continuing education units are pending. For more information or to register\, use the link below or call 302-856-3990\, ext. 3 or email bobbi.heck@de.nacdnet.net.
URL:https://delawaredigshealthysoils.com/event/soil-health-series-scd-workshop-with-jeremiah-durbin/
LOCATION:Bridgeville Fire Hall\, 311 Market St\, Bridgeville\, DE\, 19933\, United States
ATTACH;FMTTYPE=image/jpeg:https://delawaredigshealthysoils.com/wp-content/uploads/2022/12/322472385_899013421100211_1129171699298172416_n.jpg
END:VEVENT
BEGIN:VEVENT
DTSTART;TZID=UTC:20230110T080000
DTEND;TZID=UTC:20230110T170000
DTSTAMP:20260423T162847
CREATED:20221214T170126Z
LAST-MODIFIED:20230110T134718Z
UID:765-1673337600-1673370000@delawaredigshealthysoils.com
SUMMARY:Delmarva and the Ground for Change Film Screening at Delaware Ag Week
DESCRIPTION:Film Screening and Panel Discussion: Delmarva and the Ground for Change\nTuesday\, Jan. 10\, from 6 to 8 p.m.\nExhibit Hall\, Delaware State Fair Grounds\, Harrington\, Delaware\n—Delaware & Maryland credits TBD \nEnvironmental stewardship spearheaded by farmers around the Chesapeake and Delaware Bays has made them leaders in practices that protect and promote healthy soils. These practices also safeguard working lands against extremes posed by climate change. This film follows three family-owned farming operations on the Delmarva Peninsula working to protect soil health. For more information\, contact Jenn Volk at jennvolk@udel.edu. \nCredits for this session:\nDE Nutrient Management Credits: 1.5\nMD Nutrient Management Credits: 1.0
URL:https://delawaredigshealthysoils.com/event/delmarva-and-the-ground-for-change-film-screening-at-delaware-ag-week/
LOCATION:DE
ATTACH;FMTTYPE=image/jpeg:https://delawaredigshealthysoils.com/wp-content/uploads/2022/05/Post-Image-Film.jpg
END:VEVENT
BEGIN:VEVENT
DTSTART;TZID=UTC:20221220T080000
DTEND;TZID=UTC:20221220T093000
DTSTAMP:20260423T162847
CREATED:20221214T165753Z
LAST-MODIFIED:20221214T170002Z
UID:762-1671523200-1671528600@delawaredigshealthysoils.com
SUMMARY:Caffeine and Cover Crops
DESCRIPTION:An in-person caffeine and cover crops event will be held on Tuesday\, Dec. 20\, 2022\, from 8 – 9:30 a.m.\, at the Vanderwende-Evans Conservation Center in Georgetown. This event is free and preregistration is encouraged; coffee and light fare will be served. \nThis event is presented by the Delaware Soil Health Partnership\, Sussex Conservation District and the USDA Natural Resources Conservation Service. \nUse the link below to register or call Siobhan Kelley\, (302) 856-2105\, x 122.
URL:https://delawaredigshealthysoils.com/event/caffeine-and-cover-crops-2/
LOCATION:Sussex Conservation District\, 23818 Shortly Road\, Georgetown\, DE\, 19947\, United States
ATTACH;FMTTYPE=image/png:https://delawaredigshealthysoils.com/wp-content/uploads/2022/10/Caffeine__Cover_Crops_DSHP_white.png
END:VEVENT
BEGIN:VEVENT
DTSTART;TZID=UTC:20221115T080000
DTEND;TZID=UTC:20221115T093000
DTSTAMP:20260423T162847
CREATED:20221027T131431Z
LAST-MODIFIED:20221027T132652Z
UID:749-1668499200-1668504600@delawaredigshealthysoils.com
SUMMARY:Caffeine and Cover Crops
DESCRIPTION:An in-person caffeine and cover crops event will be held on Tuesday\, Nov. 15\, 2022\, from 8 – 9:30 a.m.\, at the Vanderwende-Evans Conservation Center in Georgetown. This event is free and preregistration is encouraged; coffee and light fare will be served. \n“I really love this event because it gives producers an opportunity to informally discuss what they’re trying and learning in the field. I also look forward to seeing old friends and meeting new ones\,” said Debbie Absher\, director of agricultural programs at Sussex Conservation District. \nThis event is presented by the Delaware Soil Health Partnership\, Sussex Conservation District and the USDA Natural Resources Conservation Service. \nUse the link below to register or call Siobhan Kelley\, (302) 856-2105\, x 122.
URL:https://delawaredigshealthysoils.com/event/caffeine-and-cover-crops/
LOCATION:Sussex Conservation District\, 23818 Shortly Road\, Georgetown\, DE\, 19947\, United States
ATTACH;FMTTYPE=image/png:https://delawaredigshealthysoils.com/wp-content/uploads/2022/10/Caffeine__Cover_Crops_DSHP_white.png
END:VEVENT
BEGIN:VEVENT
DTSTART;TZID=UTC:20220816T090000
DTEND;TZID=UTC:20220816T120000
DTSTAMP:20260423T162847
CREATED:20220712T195938Z
LAST-MODIFIED:20220712T195938Z
UID:735-1660640400-1660651200@delawaredigshealthysoils.com
SUMMARY:Farm Green Soil Health Field Day
DESCRIPTION:With Rick Clark\, Jay Baxter and Jarrod Miller. \nLearn more and register at https://www.sussexconservation.org/events/field-day.html
URL:https://delawaredigshealthysoils.com/event/farm-green-soil-health-field-day/
LOCATION:Baxter Farms\, 23073 Zoar Road\, Georgetown\, DE\, 19947\, United States
ATTACH;FMTTYPE=image/png:https://delawaredigshealthysoils.com/wp-content/uploads/2022/07/soil_health_field_day_8.16.22_1.png
END:VEVENT
BEGIN:VEVENT
DTSTART;TZID=UTC:20220711T153000
DTEND;TZID=UTC:20220711T180000
DTSTAMP:20260423T162847
CREATED:20220712T201004Z
LAST-MODIFIED:20220712T201004Z
UID:746-1657553400-1657562400@delawaredigshealthysoils.com
SUMMARY:Film Screening & Panel Discussion: Delmarva and the Ground for Change
DESCRIPTION:FREE\n\n\n\nJuly 11 from 3:30 to 6:00 p.m. at the Clayton Theater in Dagsboro\, DE. \nEnvironmental stewardship of farmers around the Chesapeake and Delaware Bays has made them leaders in practices that protect healthy soils and safeguard working lands against climate change. This film follows three different family-owned farming operations on the Delmarva Peninsula who care about and depend on soil. Join us for a screening followed by a reception over ice cream from Vanderwende’s Farm Creamery. \nThis event has been approved for 1 Delaware Nutrient Management Continuing Education Credits. Here is a link to the movie trailer – https://youtu.be/kGJvaMutmSE \n 
URL:https://delawaredigshealthysoils.com/event/film-screening-panel-discussion-delmarva-and-the-ground-for-change-2/
LOCATION:Clayton Theater\, 33246 Main St\, Dagsboro\, DE\, 19939\, United States
END:VEVENT
BEGIN:VEVENT
DTSTART;TZID=UTC:20220512T180000
DTEND;TZID=UTC:20220512T200000
DTSTAMP:20260423T162847
CREATED:20220505T130357Z
LAST-MODIFIED:20220505T130357Z
UID:716-1652378400-1652385600@delawaredigshealthysoils.com
SUMMARY:Film Screening & Panel Discussion: Delmarva and the Ground for Change
DESCRIPTION:May 12 from 6 to 8 p.m. at Main Street Movies 5 (230 E Main St\, Newark\, DE 19711) \nEnvironmental stewardship of farmers around the Chesapeake and Delaware Bays has made them leaders in practices that protect healthy soils and safeguard working lands against climate change. This film follows three different family-owned farming operations on the Delmarva Peninsula who care about and depend on soil. Join us for a screening followed by a panel discussion featuring… \n\nKasey Taylor\, state conservationist\, USDA Natural Resources Conservation Service\nRose Ogutu\, horticulture specialist\, DSU\nKarrah Kwasnik\, filmmaker\, USDA Northeast Climate Hub\n\nThis event has been approved for 1.5 Delaware Nutrient Management Continuing Education Credits. Here is a link to the movie trailer – https://youtu.be/kGJvaMutmSE \n\nReserve your (free) seat at https://ud-pcs.idloom.events/delmarva-and-the-ground-for-change
URL:https://delawaredigshealthysoils.com/event/film-screening-panel-discussion-delmarva-and-the-ground-for-change/
LOCATION:Main Street Movies\, 230 E. Main St.\, Newark\, DE\, 19711\, United States
END:VEVENT
END:VCALENDAR